Package: R3CPET Version: 1.42.0 Command: /home/biocbuild/bbs-3.22-bioc/R/bin/R CMD INSTALL R3CPET StartedAt: 2025-11-11 15:51:11 -0500 (Tue, 11 Nov 2025) EndedAt: 2025-11-11 15:52:20 -0500 (Tue, 11 Nov 2025) EllapsedTime: 69.6 seconds RetCode: 0 Status: OK