Package: R3CPET Version: 1.42.0 Command: /home/biocbuild/bbs-3.22-bioc/R/bin/R CMD check --install=check:R3CPET.install-out.txt --library=/home/biocbuild/bbs-3.22-bioc/R/site-library --timings R3CPET_1.42.0.tar.gz StartedAt: 2025-11-17 03:12:12 -0500 (Mon, 17 Nov 2025) EndedAt: 2025-11-17 03:18:34 -0500 (Mon, 17 Nov 2025) EllapsedTime: 381.5 seconds RetCode: 0 Status: WARNINGS CheckDir: R3CPET.Rcheck Warnings: 2