Package: R3CPET Version: 1.40.0 Command: /home/biocbuild/R/R/bin/R CMD INSTALL R3CPET StartedAt: 2025-10-13 21:01:28 -0000 (Mon, 13 Oct 2025) EndedAt: 2025-10-13 21:03:15 -0000 (Mon, 13 Oct 2025) EllapsedTime: 107.1 seconds RetCode: 0 Status: OK