Package: QuaternaryProd Version: 1.44.0 Command: /home/biocbuild/R/R/bin/R CMD INSTALL QuaternaryProd StartedAt: 2025-11-10 21:12:22 -0000 (Mon, 10 Nov 2025) EndedAt: 2025-11-10 21:13:03 -0000 (Mon, 10 Nov 2025) EllapsedTime: 40.6 seconds RetCode: 0 Status: OK