Package: QuaternaryProd Version: 1.44.0 Command: /home/biocbuild/R/R/bin/R CMD build --keep-empty-dirs --no-resave-data QuaternaryProd StartedAt: 2025-11-11 04:19:41 -0000 (Tue, 11 Nov 2025) EndedAt: 2025-11-11 04:27:19 -0000 (Tue, 11 Nov 2025) EllapsedTime: 458.2 seconds RetCode: 0 Status: OK PackageFile: QuaternaryProd_1.44.0.tar.gz PackageFileSize: 10.72 MiB