Package: QuaternaryProd Version: 1.44.0 Command: /home/biocbuild/bbs-3.22-bioc/R/bin/R CMD check --install=check:QuaternaryProd.install-out.txt --library=/home/biocbuild/bbs-3.22-bioc/R/site-library --timings QuaternaryProd_1.44.0.tar.gz StartedAt: 2025-11-12 03:06:24 -0500 (Wed, 12 Nov 2025) EndedAt: 2025-11-12 03:07:12 -0500 (Wed, 12 Nov 2025) EllapsedTime: 48.1 seconds RetCode: 0 Status: OK CheckDir: QuaternaryProd.Rcheck Warnings: 0