Package: QuasR Version: 1.50.0 Command: /home/biocbuild/R/R/bin/R CMD build --keep-empty-dirs --no-resave-data QuasR StartedAt: 2025-11-11 04:19:34 -0000 (Tue, 11 Nov 2025) EndedAt: 2025-11-11 04:25:05 -0000 (Tue, 11 Nov 2025) EllapsedTime: 331.1 seconds RetCode: 0 Status: OK PackageFile: QuasR_1.50.0.tar.gz PackageFileSize: 1.889 MiB