Package: QuasR Version: 1.49.3 Command: F:\biocbuild\bbs-3.22-bioc\R\bin\R.exe CMD INSTALL QuasR StartedAt: 2025-08-14 16:57:37 -0400 (Thu, 14 Aug 2025) EndedAt: 2025-08-14 16:59:37 -0400 (Thu, 14 Aug 2025) EllapsedTime: 119.3 seconds RetCode: 0 Status: OK