Package: QuasR Version: 1.50.0 Command: /home/biocbuild/bbs-3.22-bioc/R/bin/R CMD check --install=check:QuasR.install-out.txt --library=/home/biocbuild/bbs-3.22-bioc/R/site-library --timings QuasR_1.50.0.tar.gz StartedAt: 2025-11-12 03:06:13 -0500 (Wed, 12 Nov 2025) EndedAt: 2025-11-12 03:19:02 -0500 (Wed, 12 Nov 2025) EllapsedTime: 768.9 seconds RetCode: 0 Status: WARNINGS CheckDir: QuasR.Rcheck Warnings: 1