Package: QuasR Version: 1.48.1 Command: /home/biocbuild/bbs-3.21-bioc/R/bin/R CMD INSTALL QuasR StartedAt: 2025-10-12 15:57:42 -0400 (Sun, 12 Oct 2025) EndedAt: 2025-10-12 15:58:46 -0400 (Sun, 12 Oct 2025) EllapsedTime: 64.3 seconds RetCode: 0 Status: OK