Package: QuasR Version: 1.48.1 Command: /Library/Frameworks/R.framework/Resources/bin/R CMD INSTALL QuasR StartedAt: 2025-10-13 18:24:19 -0400 (Mon, 13 Oct 2025) EndedAt: 2025-10-13 18:25:35 -0400 (Mon, 13 Oct 2025) EllapsedTime: 76.3 seconds RetCode: 0 Status: OK