Package: QuasR Version: 1.48.1 Command: /Library/Frameworks/R.framework/Resources/bin/R CMD build --keep-empty-dirs --no-resave-data QuasR StartedAt: 2025-10-14 07:09:58 -0400 (Tue, 14 Oct 2025) EndedAt: 2025-10-14 07:15:39 -0400 (Tue, 14 Oct 2025) EllapsedTime: 340.2 seconds RetCode: 0 Status: OK PackageFile: QuasR_1.48.1.tar.gz PackageFileSize: 2.406 MiB