Package: QuasR Version: 1.48.1 Command: rm -rf QuasR.buildbin-libdir && mkdir QuasR.buildbin-libdir && /Users/biocbuild/BBS/utils/build-universal.sh QuasR_1.48.1.tar.gz /Library/Frameworks/R.framework/Resources/bin/R QuasR.buildbin-libdir StartedAt: 2025-10-15 19:56:11 -0400 (Wed, 15 Oct 2025) EndedAt: 2025-10-15 19:57:37 -0400 (Wed, 15 Oct 2025) EllapsedTime: 86.4 seconds RetCode: 0 Status: OK PackageFile: QuasR_1.48.1.tgz PackageFileSize: 3.416 MiB