Package: QuasR Version: 1.50.0 Maintainer: Michael Stadler MaintainerEmail: michael.stadler at fmi.ch git_url: https://git.bioconductor.org/packages/QuasR git_branch: RELEASE_3_22 git_last_commit: 3274f2d git_last_commit_date: 2025-10-29 10:13:16 -0400 (Wed, 29 Oct 2025)