Package: QuartPAC Version: 1.40.0 Command: /home/biocbuild/R/R/bin/R CMD INSTALL QuartPAC StartedAt: 2025-10-06 21:10:26 -0000 (Mon, 06 Oct 2025) EndedAt: 2025-10-06 21:10:47 -0000 (Mon, 06 Oct 2025) EllapsedTime: 20.7 seconds RetCode: 0 Status: OK