Package: QuartPAC Version: 1.40.0 Command: rm -rf QuartPAC.buildbin-libdir && mkdir QuartPAC.buildbin-libdir && /Users/biocbuild/BBS/utils/build-universal.sh QuartPAC_1.40.0.tar.gz /Library/Frameworks/R.framework/Resources/bin/R QuartPAC.buildbin-libdir StartedAt: 2025-04-21 22:47:32 -0400 (Mon, 21 Apr 2025) EndedAt: 2025-04-21 22:47:39 -0400 (Mon, 21 Apr 2025) EllapsedTime: 7.1 seconds RetCode: 0 Status: OK PackageFile: QuartPAC_1.40.0.tgz PackageFileSize: 647.3 KiB