Package: Qtlizer Version: 1.24.0 Command: /home/biocbuild/bbs-3.22-bioc/R/bin/R CMD build --keep-empty-dirs --no-resave-data --md5 Qtlizer StartedAt: 2025-11-13 19:33:24 -0500 (Thu, 13 Nov 2025) EndedAt: 2025-11-13 19:33:33 -0500 (Thu, 13 Nov 2025) EllapsedTime: 9.0 seconds RetCode: 0 Status: OK PackageFile: Qtlizer_1.24.0.tar.gz PackageFileSize: 223.7 KiB