Package: Qtlizer Version: 1.24.0 Command: /Library/Frameworks/R.framework/Resources/bin/R CMD INSTALL Qtlizer StartedAt: 2025-11-10 15:10:54 -0500 (Mon, 10 Nov 2025) EndedAt: 2025-11-10 15:10:56 -0500 (Mon, 10 Nov 2025) EllapsedTime: 1.2 seconds RetCode: 0 Status: OK