Package: Qtlizer Version: 1.24.0 Command: /Library/Frameworks/R.framework/Resources/bin/R CMD build --keep-empty-dirs --no-resave-data Qtlizer StartedAt: 2025-11-10 17:26:02 -0500 (Mon, 10 Nov 2025) EndedAt: 2025-11-10 17:26:12 -0500 (Mon, 10 Nov 2025) EllapsedTime: 9.1 seconds RetCode: 0 Status: OK PackageFile: Qtlizer_1.24.0.tar.gz PackageFileSize: 223.2 KiB