Package: Qtlizer Version: 1.24.0 Command: rm -rf Qtlizer.buildbin-libdir && mkdir Qtlizer.buildbin-libdir && /Users/biocbuild/BBS/utils/build-universal.sh Qtlizer_1.24.0.tar.gz /Library/Frameworks/R.framework/Resources/bin/R Qtlizer.buildbin-libdir StartedAt: 2025-11-10 23:32:15 -0500 (Mon, 10 Nov 2025) EndedAt: 2025-11-10 23:32:16 -0500 (Mon, 10 Nov 2025) EllapsedTime: 1.0 seconds RetCode: 0 Status: OK PackageFile: Qtlizer_1.24.0.tgz PackageFileSize: 236 KiB