Package: QUBIC Version: 1.38.0 Command: /home/biocbuild/bbs-3.22-bioc/R/bin/R CMD INSTALL QUBIC StartedAt: 2025-11-14 15:12:00 -0500 (Fri, 14 Nov 2025) EndedAt: 2025-11-14 15:12:31 -0500 (Fri, 14 Nov 2025) EllapsedTime: 30.3 seconds RetCode: 0 Status: OK