Package: QUBIC Version: 1.38.0 Command: /Library/Frameworks/R.framework/Resources/bin/R CMD INSTALL QUBIC StartedAt: 2025-11-10 15:06:03 -0500 (Mon, 10 Nov 2025) EndedAt: 2025-11-10 15:06:15 -0500 (Mon, 10 Nov 2025) EllapsedTime: 11.9 seconds RetCode: 0 Status: OK