Package: QUBIC Version: 1.38.0 Command: /Library/Frameworks/R.framework/Resources/bin/R CMD build --keep-empty-dirs --no-resave-data QUBIC StartedAt: 2025-11-10 17:26:13 -0500 (Mon, 10 Nov 2025) EndedAt: 2025-11-10 17:26:56 -0500 (Mon, 10 Nov 2025) EllapsedTime: 43.5 seconds RetCode: 0 Status: OK PackageFile: QUBIC_1.38.0.tar.gz PackageFileSize: 493.7 KiB