Package: QTLExperiment Version: 2.2.0 Command: /home/biocbuild/bbs-3.22-bioc/R/bin/R CMD INSTALL QTLExperiment StartedAt: 2025-11-11 15:28:37 -0500 (Tue, 11 Nov 2025) EndedAt: 2025-11-11 15:29:02 -0500 (Tue, 11 Nov 2025) EllapsedTime: 25.3 seconds RetCode: 0 Status: OK