Package: QTLExperiment Version: 2.2.0 Command: /home/biocbuild/bbs-3.22-bioc/R/bin/R CMD build --keep-empty-dirs --no-resave-data --md5 QTLExperiment StartedAt: 2025-11-11 19:34:07 -0500 (Tue, 11 Nov 2025) EndedAt: 2025-11-11 19:34:43 -0500 (Tue, 11 Nov 2025) EllapsedTime: 36.0 seconds RetCode: 0 Status: OK PackageFile: QTLExperiment_2.2.0.tar.gz PackageFileSize: 616.6 KiB