Package: QTLExperiment Version: 2.2.0 Command: /Library/Frameworks/R.framework/Resources/bin/R CMD INSTALL QTLExperiment StartedAt: 2025-11-10 15:15:24 -0500 (Mon, 10 Nov 2025) EndedAt: 2025-11-10 15:15:34 -0500 (Mon, 10 Nov 2025) EllapsedTime: 10.4 seconds RetCode: 0 Status: OK