Package: QTLExperiment Version: 2.2.0 Command: /Library/Frameworks/R.framework/Resources/bin/R CMD build --keep-empty-dirs --no-resave-data QTLExperiment StartedAt: 2025-11-10 17:25:52 -0500 (Mon, 10 Nov 2025) EndedAt: 2025-11-10 17:26:09 -0500 (Mon, 10 Nov 2025) EllapsedTime: 17.2 seconds RetCode: 0 Status: OK PackageFile: QTLExperiment_2.2.0.tar.gz PackageFileSize: 613.4 KiB