Package: QTLExperiment Version: 2.2.0 Command: rm -rf QTLExperiment.buildbin-libdir && mkdir QTLExperiment.buildbin-libdir && /Users/biocbuild/BBS/utils/build-universal.sh QTLExperiment_2.2.0.tar.gz /Library/Frameworks/R.framework/Resources/bin/R QTLExperiment.buildbin-libdir StartedAt: 2025-11-10 23:32:13 -0500 (Mon, 10 Nov 2025) EndedAt: 2025-11-10 23:32:26 -0500 (Mon, 10 Nov 2025) EllapsedTime: 12.2 seconds RetCode: 0 Status: OK PackageFile: QTLExperiment_2.2.0.tgz PackageFileSize: 1.145 MiB