Package: QSutils Version: 1.28.0 Command: /home/biocbuild/R/R/bin/R CMD INSTALL QSutils StartedAt: 2025-11-13 21:59:28 -0000 (Thu, 13 Nov 2025) EndedAt: 2025-11-13 21:59:42 -0000 (Thu, 13 Nov 2025) EllapsedTime: 14.4 seconds RetCode: 0 Status: OK