Package: QSutils Version: 1.28.0 Command: /home/biocbuild/R/R/bin/R CMD build --keep-empty-dirs --no-resave-data QSutils StartedAt: 2025-11-14 04:23:27 -0000 (Fri, 14 Nov 2025) EndedAt: 2025-11-14 04:25:26 -0000 (Fri, 14 Nov 2025) EllapsedTime: 119.1 seconds RetCode: 0 Status: OK PackageFile: QSutils_1.28.0.tar.gz PackageFileSize: 1.386 MiB