Package: QSutils Version: 1.28.0 Command: /home/biocbuild/bbs-3.22-bioc/R/bin/R CMD INSTALL QSutils StartedAt: 2025-11-11 15:55:17 -0500 (Tue, 11 Nov 2025) EndedAt: 2025-11-11 15:55:29 -0500 (Tue, 11 Nov 2025) EllapsedTime: 12.5 seconds RetCode: 0 Status: OK