Package: QSutils Version: 1.26.0 Command: /home/biocbuild/bbs-3.21-bioc/R/bin/R CMD INSTALL QSutils StartedAt: 2025-10-12 15:49:15 -0400 (Sun, 12 Oct 2025) EndedAt: 2025-10-12 15:49:26 -0400 (Sun, 12 Oct 2025) EllapsedTime: 11.4 seconds RetCode: 0 Status: OK