Package: QSutils Version: 1.26.0 Command: /home/biocbuild/bbs-3.21-bioc/R/bin/R CMD build --keep-empty-dirs --no-resave-data QSutils StartedAt: 2025-10-12 19:20:36 -0400 (Sun, 12 Oct 2025) EndedAt: 2025-10-12 19:21:58 -0400 (Sun, 12 Oct 2025) EllapsedTime: 82.1 seconds RetCode: 0 Status: OK PackageFile: QSutils_1.26.0.tar.gz PackageFileSize: 1.638 MiB