Package: QSutils Version: 1.26.0 Command: rm -rf QSutils.buildbin-libdir && mkdir QSutils.buildbin-libdir && /Users/biocbuild/BBS/utils/build-universal.sh QSutils_1.26.0.tar.gz /Library/Frameworks/R.framework/Resources/bin/R QSutils.buildbin-libdir StartedAt: 2025-10-15 19:55:28 -0400 (Wed, 15 Oct 2025) EndedAt: 2025-10-15 19:55:44 -0400 (Wed, 15 Oct 2025) EllapsedTime: 15.9 seconds RetCode: 0 Status: OK PackageFile: QSutils_1.26.0.tgz PackageFileSize: 1.439 MiB