Package: QRscore Version: 1.2.0 Command: /home/biocbuild/bbs-3.22-bioc/R/bin/R CMD INSTALL QRscore StartedAt: 2025-11-13 15:09:20 -0500 (Thu, 13 Nov 2025) EndedAt: 2025-11-13 15:09:30 -0500 (Thu, 13 Nov 2025) EllapsedTime: 10.0 seconds RetCode: 0 Status: OK