Package: QFeatures Version: 1.20.0 Command: /home/biocbuild/bbs-3.22-bioc/R/bin/R CMD check --install=check:QFeatures.install-out.txt --library=/home/biocbuild/bbs-3.22-bioc/R/site-library --timings QFeatures_1.20.0.tar.gz StartedAt: 2025-11-14 03:04:48 -0500 (Fri, 14 Nov 2025) EndedAt: 2025-11-14 03:13:41 -0500 (Fri, 14 Nov 2025) EllapsedTime: 533.6 seconds RetCode: 0 Status: OK CheckDir: QFeatures.Rcheck Warnings: 0