Package: QFeatures Version: 1.18.0 Command: /home/biocbuild/bbs-3.21-bioc/R/bin/R CMD INSTALL QFeatures StartedAt: 2025-10-15 15:33:51 -0400 (Wed, 15 Oct 2025) EndedAt: 2025-10-15 15:34:19 -0400 (Wed, 15 Oct 2025) EllapsedTime: 28.6 seconds RetCode: 0 Status: OK