Package: QFeatures Version: 1.18.0 Command: rm -rf QFeatures.buildbin-libdir && mkdir QFeatures.buildbin-libdir && /Users/biocbuild/BBS/utils/build-universal.sh QFeatures_1.18.0.tar.gz /Library/Frameworks/R.framework/Resources/bin/R QFeatures.buildbin-libdir StartedAt: 2025-10-15 19:54:47 -0400 (Wed, 15 Oct 2025) EndedAt: 2025-10-15 19:55:28 -0400 (Wed, 15 Oct 2025) EllapsedTime: 40.4 seconds RetCode: 0 Status: OK PackageFile: QFeatures_1.18.0.tgz PackageFileSize: 4.907 MiB