Package: QDNAseq Version: 1.46.0 Command: /home/biocbuild/bbs-3.22-bioc/R/bin/R CMD INSTALL QDNAseq StartedAt: 2025-11-11 15:20:15 -0500 (Tue, 11 Nov 2025) EndedAt: 2025-11-11 15:20:32 -0500 (Tue, 11 Nov 2025) EllapsedTime: 17.6 seconds RetCode: 0 Status: OK