Package: QDNAseq Version: 1.46.0 Command: /home/biocbuild/bbs-3.22-bioc/R/bin/R CMD build --keep-empty-dirs --no-resave-data --md5 QDNAseq StartedAt: 2025-11-11 19:33:20 -0500 (Tue, 11 Nov 2025) EndedAt: 2025-11-11 19:34:06 -0500 (Tue, 11 Nov 2025) EllapsedTime: 46.1 seconds RetCode: 0 Status: OK PackageFile: QDNAseq_1.46.0.tar.gz PackageFileSize: 1.07 MiB