Package: QDNAseq Version: 1.46.0 Command: /Library/Frameworks/R.framework/Resources/bin/R CMD INSTALL QDNAseq StartedAt: 2025-11-03 15:23:32 -0500 (Mon, 03 Nov 2025) EndedAt: 2025-11-03 15:23:58 -0500 (Mon, 03 Nov 2025) EllapsedTime: 26.2 seconds RetCode: 0 Status: OK