Package: QDNAseq Version: 1.46.0 Command: /Library/Frameworks/R.framework/Resources/bin/R CMD build --keep-empty-dirs --no-resave-data QDNAseq StartedAt: 2025-11-03 18:20:16 -0500 (Mon, 03 Nov 2025) EndedAt: 2025-11-03 18:21:08 -0500 (Mon, 03 Nov 2025) EllapsedTime: 51.4 seconds RetCode: 0 Status: OK PackageFile: QDNAseq_1.46.0.tar.gz PackageFileSize: 992.8 KiB