Package: QDNAseq Version: 1.44.0 Command: /home/biocbuild/R/R/bin/R CMD build --keep-empty-dirs --no-resave-data QDNAseq StartedAt: 2025-10-14 03:45:13 -0000 (Tue, 14 Oct 2025) EndedAt: 2025-10-14 03:46:16 -0000 (Tue, 14 Oct 2025) EllapsedTime: 63.0 seconds RetCode: 0 Status: OK PackageFile: QDNAseq_1.44.0.tar.gz PackageFileSize: 1.015 MiB