Package: Pviz Version: 1.44.0 Command: /home/biocbuild/bbs-3.22-bioc/R/bin/R CMD INSTALL Pviz StartedAt: 2025-11-11 15:52:21 -0500 (Tue, 11 Nov 2025) EndedAt: 2025-11-11 15:53:44 -0500 (Tue, 11 Nov 2025) EllapsedTime: 83.4 seconds RetCode: 0 Status: OK