Package: Pviz Version: 1.44.0 Command: /home/biocbuild/bbs-3.22-bioc/R/bin/R CMD check --install=check:Pviz.install-out.txt --library=/home/biocbuild/bbs-3.22-bioc/R/site-library --timings Pviz_1.44.0.tar.gz StartedAt: 2025-11-15 03:15:53 -0500 (Sat, 15 Nov 2025) EndedAt: 2025-11-15 03:21:55 -0500 (Sat, 15 Nov 2025) EllapsedTime: 362.3 seconds RetCode: 0 Status: WARNINGS CheckDir: Pviz.Rcheck Warnings: 1