Package: Pviz Version: 1.44.0 Command: /home/biocbuild/bbs-3.22-bioc/R/bin/R CMD build --keep-empty-dirs --no-resave-data --md5 Pviz StartedAt: 2025-11-11 19:32:23 -0500 (Tue, 11 Nov 2025) EndedAt: 2025-11-11 19:34:15 -0500 (Tue, 11 Nov 2025) EllapsedTime: 111.1 seconds RetCode: 0 Status: OK PackageFile: Pviz_1.44.0.tar.gz PackageFileSize: 204.5 KiB