Package: Pviz Version: 1.42.0 Command: /home/biocbuild/bbs-3.21-bioc/R/bin/R CMD build --keep-empty-dirs --no-resave-data Pviz StartedAt: 2025-10-15 19:16:29 -0400 (Wed, 15 Oct 2025) EndedAt: 2025-10-15 19:18:21 -0400 (Wed, 15 Oct 2025) EllapsedTime: 112.1 seconds RetCode: 0 Status: OK PackageFile: Pviz_1.42.0.tar.gz PackageFileSize: 203.1 KiB