Package: Pviz Version: 1.44.0 Maintainer: Renan Sauteraud MaintainerEmail: rsautera at fhcrc.org git_url: https://git.bioconductor.org/packages/Pviz git_branch: RELEASE_3_22 git_last_commit: b25a5c9 git_last_commit_date: 2025-10-29 10:20:18 -0400 (Wed, 29 Oct 2025)