Package: PureCN Version: 2.16.0 Command: /home/biocbuild/bbs-3.22-bioc/R/bin/R CMD INSTALL PureCN StartedAt: 2025-11-11 15:49:48 -0500 (Tue, 11 Nov 2025) EndedAt: 2025-11-11 15:50:37 -0500 (Tue, 11 Nov 2025) EllapsedTime: 49.9 seconds RetCode: 0 Status: OK