Package: PureCN Version: 2.16.0 Command: /home/biocbuild/bbs-3.22-bioc/R/bin/R CMD build --keep-empty-dirs --no-resave-data --md5 PureCN StartedAt: 2025-11-11 19:32:08 -0500 (Tue, 11 Nov 2025) EndedAt: 2025-11-11 19:36:13 -0500 (Tue, 11 Nov 2025) EllapsedTime: 244.2 seconds RetCode: 0 Status: OK PackageFile: PureCN_2.16.0.tar.gz PackageFileSize: 5.73 MiB